BEGIN:VCALENDAR
VERSION:2.0
PRODID:-//Triveni International College :: Pokhara-27, Talchowk:: Affiliated to TU - ECPv6.15.20//NONSGML v1.0//EN
CALSCALE:GREGORIAN
METHOD:PUBLISH
X-ORIGINAL-URL:https://tic.edu.np
X-WR-CALDESC:Events for Triveni International College :: Pokhara-27, Talchowk:: Affiliated to TU
REFRESH-INTERVAL;VALUE=DURATION:PT1H
X-Robots-Tag:noindex
X-PUBLISHED-TTL:PT1H
BEGIN:VTIMEZONE
TZID:Asia/Katmandu
BEGIN:STANDARD
TZOFFSETFROM:+0545
TZOFFSETTO:+0545
TZNAME:+0545
DTSTART:20220101T000000
END:STANDARD
END:VTIMEZONE
BEGIN:VEVENT
DTSTART;TZID=Asia/Katmandu:20250104T110000
DTEND;TZID=Asia/Katmandu:20250104T163000
DTSTAMP:20260421T211740
CREATED:20250103T083923Z
LAST-MODIFIED:20250103T084709Z
UID:7468-1735988400-1736008200@tic.edu.np
SUMMARY:नवौ वार्षिक साधारण सभा तथा तेस्रो अधिवेशन २०८०/०८१
DESCRIPTION:यस त्रिवेणी इन्टरनेशनल कलेजको नवौं वार्षिक साधारण सभा तथा तेस्रो अधिवेशन निम्न मिति\, स्थान र समयमा सम्पन्न हुने भएकाले सो सभामा सम्पूर्ण शेयर सदस्य ज्यूहरुलाई उपस्थितिका लागि यो सूचना प्रेषित गरिएको छ । \nमिति : २०८१।०९।२० गते शनिवार ।\nस्थान : त्रिवेणी इन्टरनेशनल कलेज सभाहल ।\nसमय : बिहान ११.०० बजे ।
URL:https://tic.edu.np/event/9thagm/
LOCATION:Triveni International College\, Pokhara-27\, Kaski\, Pokhara\, Gandaki\, 33700\, Nepal
CATEGORIES:AGM
END:VEVENT
BEGIN:VEVENT
DTSTART;TZID=Asia/Katmandu:20231110T080000
DTEND;TZID=Asia/Katmandu:20231110T140000
DTSTAMP:20260421T211740
CREATED:20231109T053256Z
LAST-MODIFIED:20231109T053257Z
UID:7198-1699603200-1699624800@tic.edu.np
SUMMARY:8th AGM 2080
DESCRIPTION:8th AGM 2080
URL:https://tic.edu.np/event/8th-agm-2080/
LOCATION:Gandaki
CATEGORIES:AGM
END:VEVENT
END:VCALENDAR